BEGIN:VCALENDAR
VERSION:2.0
PRODID:-//Fistral Beach Newquay Cornwall - ECPv6.15.17//NONSGML v1.0//EN
CALSCALE:GREGORIAN
METHOD:PUBLISH
X-ORIGINAL-URL:https://fistralbeach.co.uk
X-WR-CALDESC:Events for Fistral Beach Newquay Cornwall
REFRESH-INTERVAL;VALUE=DURATION:PT1H
X-Robots-Tag:noindex
X-PUBLISHED-TTL:PT1H
BEGIN:VTIMEZONE
TZID:Europe/London
BEGIN:DAYLIGHT
TZOFFSETFROM:+0000
TZOFFSETTO:+0100
TZNAME:BST
DTSTART:20230326T010000
END:DAYLIGHT
BEGIN:STANDARD
TZOFFSETFROM:+0100
TZOFFSETTO:+0000
TZNAME:GMT
DTSTART:20231029T010000
END:STANDARD
BEGIN:DAYLIGHT
TZOFFSETFROM:+0000
TZOFFSETTO:+0100
TZNAME:BST
DTSTART:20240331T010000
END:DAYLIGHT
BEGIN:STANDARD
TZOFFSETFROM:+0100
TZOFFSETTO:+0000
TZNAME:GMT
DTSTART:20241027T010000
END:STANDARD
BEGIN:DAYLIGHT
TZOFFSETFROM:+0000
TZOFFSETTO:+0100
TZNAME:BST
DTSTART:20250330T010000
END:DAYLIGHT
BEGIN:STANDARD
TZOFFSETFROM:+0100
TZOFFSETTO:+0000
TZNAME:GMT
DTSTART:20251026T010000
END:STANDARD
BEGIN:DAYLIGHT
TZOFFSETFROM:+0000
TZOFFSETTO:+0100
TZNAME:BST
DTSTART:20260329T010000
END:DAYLIGHT
BEGIN:STANDARD
TZOFFSETFROM:+0100
TZOFFSETTO:+0000
TZNAME:GMT
DTSTART:20261025T010000
END:STANDARD
END:VTIMEZONE
BEGIN:VEVENT
DTSTART;VALUE=DATE:20240927
DTEND;VALUE=DATE:20240930
DTSTAMP:20260425T174440
CREATED:20240401T103227Z
LAST-MODIFIED:20240401T103238Z
UID:2689-1727395200-1727654399@fistralbeach.co.uk
SUMMARY:British Longboard Union
DESCRIPTION:The Stable\, Fistral Longboard Classic\, Fistral Beach is the undisputed centre of surfing in Cornwall\, if not the UK. The consistency\, wave quality and ease of access from town makes this one of the best home breaks for any water-dweller\, despite the equally notorious crowds. For the more progressive longboarders\, this is THE event of the year. Surfable from low to high – fast and hollow at times\, playful and just a joy to surf at others – Fistral has quickly established itself as the perfect event to finish off the tour and often provides a dramatic twist in the tale that makes or breaks many a longboarder’s season. The always enthusiastically noisy beach crowd give high tide heats an extra kick of heat\, and the great food and drink served up by main sponsor ‘The Stable’ just finishes things off with a bang. Not to be missed.
URL:https://fistralbeach.co.uk/event/british-longboard-union-2/
LOCATION:Fistral Beach
CATEGORIES:Recreational Events,Sporting and Music Event,Sports Competition,Sports Event
ATTACH;FMTTYPE=image/jpeg:https://fistralbeach.co.uk/wp-content/uploads/2018/04/adam-grifiths-hang-ten.jpg
END:VEVENT
BEGIN:VEVENT
DTSTART;TZID=Europe/London:20241026T183000
DTEND;TZID=Europe/London:20241026T223000
DTSTAMP:20260425T174440
CREATED:20240423T094325Z
LAST-MODIFIED:20240423T094325Z
UID:2758-1729967400-1729981800@fistralbeach.co.uk
SUMMARY:Fistral Beach Bar Fireworks
DESCRIPTION:Fistral Beach Bar Fireworks\nCome and experience the dazzling fireworks show at Fistral Beach Bar on Saturday\, October 26th in Newquay. Arrive early to secure prime seating at the Beach Bar\, where you can enjoy the scenic view and savor a refreshing pint or two. Indulge in a variety of hearty winter dishes and cozy beverages while anticipating the spectacular display\, commencing at 6:30pm.
URL:https://fistralbeach.co.uk/event/fistral-beach-bar-fireworks/
LOCATION:Fistral Beach Bar\, Fistral Beach\, Newquay\, Cornwall\, TR71HY\, United Kingdom
CATEGORIES:Recreational Events
ATTACH;FMTTYPE=image/jpeg:https://fistralbeach.co.uk/wp-content/uploads/2024/04/tate-lohmiller-oTXVSlMHr_o-unsplash.jpg
END:VEVENT
BEGIN:VEVENT
DTSTART;VALUE=DATE:20250806
DTEND;VALUE=DATE:20250811
DTSTAMP:20260425T174440
CREATED:20250225T114305Z
LAST-MODIFIED:20250225T114305Z
UID:2943-1754438400-1754870399@fistralbeach.co.uk
SUMMARY:Boardmasters
DESCRIPTION:Boardmasters is an iconic event that brings together music\, surfing\, and beach culture in a perfect fusion.  \nHeld annually at Fistral Beach and above Watergate Bay on the breathtaking Cornish coast\, it spans five unforgettable days of vibrant energy and diverse experiences. The festival boasts a stellar lineup of live music\, ranging from major international acts to emerging talent\, creating a dynamic atmosphere for music lovers.  \nMeanwhile\, the surf competition at showcases world-class athletes riding the legendary waves of Fistral Beach\, drawing crowds of enthusiasts and spectators. The surrounding village is a hub of coastal lifestyle\, offering everything from food stalls and local crafts to art installations and beach activities.  \nWhether you’re there for the adrenaline rush of the surf\, the eclectic music scene\, or the laid-back beach vibe\, Boardmasters is a celebration of Cornwall’s natural beauty and unique coastal culture.
URL:https://fistralbeach.co.uk/event/boardmasters-2/
LOCATION:Fistral Beach
CATEGORIES:Beach Clean,Music Event,Recreational Events,Sporting and Music Event,Sports Competition,Sports Event
ATTACH;FMTTYPE=image/webp:https://fistralbeach.co.uk/wp-content/uploads/2025/02/FM24-Finals-Day-Lukas-Skinner-3_-by-jason-Feast.webp
END:VEVENT
END:VCALENDAR