BEGIN:VCALENDAR
VERSION:2.0
PRODID:-//Fistral Beach Newquay Cornwall - ECPv6.15.17//NONSGML v1.0//EN
CALSCALE:GREGORIAN
METHOD:PUBLISH
X-WR-CALNAME:Fistral Beach Newquay Cornwall
X-ORIGINAL-URL:https://fistralbeach.co.uk
X-WR-CALDESC:Events for Fistral Beach Newquay Cornwall
REFRESH-INTERVAL;VALUE=DURATION:PT1H
X-Robots-Tag:noindex
X-PUBLISHED-TTL:PT1H
BEGIN:VTIMEZONE
TZID:Europe/London
BEGIN:DAYLIGHT
TZOFFSETFROM:+0000
TZOFFSETTO:+0100
TZNAME:BST
DTSTART:20180325T010000
END:DAYLIGHT
BEGIN:STANDARD
TZOFFSETFROM:+0100
TZOFFSETTO:+0000
TZNAME:GMT
DTSTART:20181028T010000
END:STANDARD
BEGIN:DAYLIGHT
TZOFFSETFROM:+0000
TZOFFSETTO:+0100
TZNAME:BST
DTSTART:20190331T010000
END:DAYLIGHT
BEGIN:STANDARD
TZOFFSETFROM:+0100
TZOFFSETTO:+0000
TZNAME:GMT
DTSTART:20191027T010000
END:STANDARD
BEGIN:DAYLIGHT
TZOFFSETFROM:+0000
TZOFFSETTO:+0100
TZNAME:BST
DTSTART:20200329T010000
END:DAYLIGHT
BEGIN:STANDARD
TZOFFSETFROM:+0100
TZOFFSETTO:+0000
TZNAME:GMT
DTSTART:20201025T010000
END:STANDARD
END:VTIMEZONE
BEGIN:VEVENT
DTSTART;VALUE=DATE:20190914
DTEND;VALUE=DATE:20190916
DTSTAMP:20260425T173647
CREATED:20190311T153724Z
LAST-MODIFIED:20190311T153724Z
UID:2300-1568419200-1568591999@fistralbeach.co.uk
SUMMARY:Unite Fitness Festival 2019
DESCRIPTION:
URL:https://fistralbeach.co.uk/event/unite-fitness-festival-2019/
LOCATION:Fistral Beach
CATEGORIES:Sports Competition,Sports Event
ORGANIZER;CN="One and All Games":MAILTO:INFO@ONEANDALLGAMES.CO.UK
END:VEVENT
END:VCALENDAR